
BEGIN:VCALENDAR
VERSION:2.0
PRODID:-//CVAC - ECPv6.15.16//NONSGML v1.0//EN
CALSCALE:GREGORIAN
METHOD:PUBLISH
X-ORIGINAL-URL:https://connecticutvalleyct.sgtstaging.com
X-WR-CALDESC:Events for CVAC
REFRESH-INTERVAL;VALUE=DURATION:PT1H
X-Robots-Tag:noindex
X-PUBLISHED-TTL:PT1H
BEGIN:VTIMEZONE
TZID:America/New_York
BEGIN:DAYLIGHT
TZOFFSETFROM:-0500
TZOFFSETTO:-0400
TZNAME:EDT
DTSTART:20250309T070000
END:DAYLIGHT
BEGIN:STANDARD
TZOFFSETFROM:-0400
TZOFFSETTO:-0500
TZNAME:EST
DTSTART:20251102T060000
END:STANDARD
BEGIN:DAYLIGHT
TZOFFSETFROM:-0500
TZOFFSETTO:-0400
TZNAME:EDT
DTSTART:20260308T070000
END:DAYLIGHT
BEGIN:STANDARD
TZOFFSETFROM:-0400
TZOFFSETTO:-0500
TZNAME:EST
DTSTART:20261101T060000
END:STANDARD
BEGIN:DAYLIGHT
TZOFFSETFROM:-0500
TZOFFSETTO:-0400
TZNAME:EDT
DTSTART:20270314T070000
END:DAYLIGHT
BEGIN:STANDARD
TZOFFSETFROM:-0400
TZOFFSETTO:-0500
TZNAME:EST
DTSTART:20271107T060000
END:STANDARD
END:VTIMEZONE
BEGIN:VEVENT
DTSTART;TZID=America/New_York:20260608T190000
DTEND;TZID=America/New_York:20260608T210000
DTSTAMP:20260420T212131
CREATED:20260216T092558Z
LAST-MODIFIED:20260216T092558Z
UID:27577-1780945200-1780952400@connecticutvalleyct.sgtstaging.com
SUMMARY:Church Board Meeting
DESCRIPTION:GD-contact. (9/15/14)
URL:https://connecticutvalleyct.sgtstaging.com/event/church-board-meeting-4/
LOCATION:Fellowship Hall
ORGANIZER;CN="7q8j110h97fgk07agfcf4cs0ig@group.calendar.google.com":MAILTO:7q8j110h97fgk07agfcf4cs0ig@group_calendar_google_com
END:VEVENT
BEGIN:VEVENT
DTSTART;TZID=America/New_York:20260613T093000
DTEND;TZID=America/New_York:20260613T104500
DTSTAMP:20260420T212131
CREATED:20260216T092558Z
LAST-MODIFIED:20260216T092558Z
UID:27578-1781343000-1781347500@connecticutvalleyct.sgtstaging.com
SUMMARY:Sabbath School
DESCRIPTION:
URL:https://connecticutvalleyct.sgtstaging.com/event/sabbath-school-17/
LOCATION:354 Foster Rd\, S. Windsor\, CT 06074   (860) 644-6119
ORGANIZER;CN="7q8j110h97fgk07agfcf4cs0ig@group.calendar.google.com":MAILTO:7q8j110h97fgk07agfcf4cs0ig@group_calendar_google_com
END:VEVENT
BEGIN:VEVENT
DTSTART;TZID=America/New_York:20260613T110000
DTEND;TZID=America/New_York:20260613T123000
DTSTAMP:20260420T212131
CREATED:20260216T092558Z
LAST-MODIFIED:20260216T092558Z
UID:27579-1781348400-1781353800@connecticutvalleyct.sgtstaging.com
SUMMARY:Worship Service
DESCRIPTION:
URL:https://connecticutvalleyct.sgtstaging.com/event/worship-service-17/
LOCATION:354 Foster Rd\, S. Windsor\, CT 06074   (860) 644-6119
ORGANIZER;CN="7q8j110h97fgk07agfcf4cs0ig@group.calendar.google.com":MAILTO:7q8j110h97fgk07agfcf4cs0ig@group_calendar_google_com
END:VEVENT
BEGIN:VEVENT
DTSTART;TZID=America/New_York:20260620T093000
DTEND;TZID=America/New_York:20260620T104500
DTSTAMP:20260420T212131
CREATED:20260216T092558Z
LAST-MODIFIED:20260216T092558Z
UID:27581-1781947800-1781952300@connecticutvalleyct.sgtstaging.com
SUMMARY:Sabbath School
DESCRIPTION:
URL:https://connecticutvalleyct.sgtstaging.com/event/sabbath-school-18/
LOCATION:354 Foster Rd\, S. Windsor\, CT 06074   (860) 644-6119
ORGANIZER;CN="7q8j110h97fgk07agfcf4cs0ig@group.calendar.google.com":MAILTO:7q8j110h97fgk07agfcf4cs0ig@group_calendar_google_com
END:VEVENT
BEGIN:VEVENT
DTSTART;TZID=America/New_York:20260620T110000
DTEND;TZID=America/New_York:20260620T123000
DTSTAMP:20260420T212131
CREATED:20260216T092558Z
LAST-MODIFIED:20260216T092558Z
UID:27582-1781953200-1781958600@connecticutvalleyct.sgtstaging.com
SUMMARY:Worship Service
DESCRIPTION:
URL:https://connecticutvalleyct.sgtstaging.com/event/worship-service-18/
LOCATION:354 Foster Rd\, S. Windsor\, CT 06074   (860) 644-6119
ORGANIZER;CN="7q8j110h97fgk07agfcf4cs0ig@group.calendar.google.com":MAILTO:7q8j110h97fgk07agfcf4cs0ig@group_calendar_google_com
END:VEVENT
BEGIN:VEVENT
DTSTART;TZID=America/New_York:20260627T093000
DTEND;TZID=America/New_York:20260627T104500
DTSTAMP:20260420T212131
CREATED:20260216T092559Z
LAST-MODIFIED:20260216T092559Z
UID:27583-1782552600-1782557100@connecticutvalleyct.sgtstaging.com
SUMMARY:Sabbath School
DESCRIPTION:
URL:https://connecticutvalleyct.sgtstaging.com/event/sabbath-school-19/
LOCATION:354 Foster Rd\, S. Windsor\, CT 06074   (860) 644-6119
ORGANIZER;CN="7q8j110h97fgk07agfcf4cs0ig@group.calendar.google.com":MAILTO:7q8j110h97fgk07agfcf4cs0ig@group_calendar_google_com
END:VEVENT
BEGIN:VEVENT
DTSTART;TZID=America/New_York:20260627T110000
DTEND;TZID=America/New_York:20260627T123000
DTSTAMP:20260420T212131
CREATED:20260216T092559Z
LAST-MODIFIED:20260216T092559Z
UID:27584-1782558000-1782563400@connecticutvalleyct.sgtstaging.com
SUMMARY:Worship Service
DESCRIPTION:
URL:https://connecticutvalleyct.sgtstaging.com/event/worship-service-19/
LOCATION:354 Foster Rd\, S. Windsor\, CT 06074   (860) 644-6119
ORGANIZER;CN="7q8j110h97fgk07agfcf4cs0ig@group.calendar.google.com":MAILTO:7q8j110h97fgk07agfcf4cs0ig@group_calendar_google_com
END:VEVENT
BEGIN:VEVENT
DTSTART;TZID=America/New_York:20260704T093000
DTEND;TZID=America/New_York:20260704T104500
DTSTAMP:20260420T212131
CREATED:20260216T092559Z
LAST-MODIFIED:20260216T092559Z
UID:27585-1783157400-1783161900@connecticutvalleyct.sgtstaging.com
SUMMARY:Sabbath School
DESCRIPTION:
URL:https://connecticutvalleyct.sgtstaging.com/event/sabbath-school-20/
LOCATION:354 Foster Rd\, S. Windsor\, CT 06074   (860) 644-6119
ORGANIZER;CN="7q8j110h97fgk07agfcf4cs0ig@group.calendar.google.com":MAILTO:7q8j110h97fgk07agfcf4cs0ig@group_calendar_google_com
END:VEVENT
BEGIN:VEVENT
DTSTART;TZID=America/New_York:20260704T110000
DTEND;TZID=America/New_York:20260704T123000
DTSTAMP:20260420T212131
CREATED:20260216T092559Z
LAST-MODIFIED:20260216T092559Z
UID:27586-1783162800-1783168200@connecticutvalleyct.sgtstaging.com
SUMMARY:Worship Service
DESCRIPTION:
URL:https://connecticutvalleyct.sgtstaging.com/event/worship-service-20/
LOCATION:354 Foster Rd\, S. Windsor\, CT 06074   (860) 644-6119
ORGANIZER;CN="7q8j110h97fgk07agfcf4cs0ig@group.calendar.google.com":MAILTO:7q8j110h97fgk07agfcf4cs0ig@group_calendar_google_com
END:VEVENT
BEGIN:VEVENT
DTSTART;TZID=America/New_York:20260711T093000
DTEND;TZID=America/New_York:20260711T104500
DTSTAMP:20260420T212131
CREATED:20260216T092559Z
LAST-MODIFIED:20260216T092559Z
UID:27587-1783762200-1783766700@connecticutvalleyct.sgtstaging.com
SUMMARY:Sabbath School
DESCRIPTION:
URL:https://connecticutvalleyct.sgtstaging.com/event/sabbath-school-21/
LOCATION:354 Foster Rd\, S. Windsor\, CT 06074   (860) 644-6119
ORGANIZER;CN="7q8j110h97fgk07agfcf4cs0ig@group.calendar.google.com":MAILTO:7q8j110h97fgk07agfcf4cs0ig@group_calendar_google_com
END:VEVENT
BEGIN:VEVENT
DTSTART;TZID=America/New_York:20260711T110000
DTEND;TZID=America/New_York:20260711T123000
DTSTAMP:20260420T212131
CREATED:20260216T092559Z
LAST-MODIFIED:20260216T092559Z
UID:27588-1783767600-1783773000@connecticutvalleyct.sgtstaging.com
SUMMARY:Worship Service
DESCRIPTION:
URL:https://connecticutvalleyct.sgtstaging.com/event/worship-service-21/
LOCATION:354 Foster Rd\, S. Windsor\, CT 06074   (860) 644-6119
ORGANIZER;CN="7q8j110h97fgk07agfcf4cs0ig@group.calendar.google.com":MAILTO:7q8j110h97fgk07agfcf4cs0ig@group_calendar_google_com
END:VEVENT
BEGIN:VEVENT
DTSTART;TZID=America/New_York:20260713T190000
DTEND;TZID=America/New_York:20260713T210000
DTSTAMP:20260420T212131
CREATED:20260216T092559Z
LAST-MODIFIED:20260216T092559Z
UID:27589-1783969200-1783976400@connecticutvalleyct.sgtstaging.com
SUMMARY:Church Board Meeting
DESCRIPTION:GD-contact. (9/15/14)
URL:https://connecticutvalleyct.sgtstaging.com/event/church-board-meeting-5/
LOCATION:Fellowship Hall
ORGANIZER;CN="7q8j110h97fgk07agfcf4cs0ig@group.calendar.google.com":MAILTO:7q8j110h97fgk07agfcf4cs0ig@group_calendar_google_com
END:VEVENT
BEGIN:VEVENT
DTSTART;TZID=America/New_York:20260718T093000
DTEND;TZID=America/New_York:20260718T104500
DTSTAMP:20260420T212131
CREATED:20260216T092559Z
LAST-MODIFIED:20260216T092559Z
UID:27590-1784367000-1784371500@connecticutvalleyct.sgtstaging.com
SUMMARY:Sabbath School
DESCRIPTION:
URL:https://connecticutvalleyct.sgtstaging.com/event/sabbath-school-22/
LOCATION:354 Foster Rd\, S. Windsor\, CT 06074   (860) 644-6119
ORGANIZER;CN="7q8j110h97fgk07agfcf4cs0ig@group.calendar.google.com":MAILTO:7q8j110h97fgk07agfcf4cs0ig@group_calendar_google_com
END:VEVENT
BEGIN:VEVENT
DTSTART;TZID=America/New_York:20260718T110000
DTEND;TZID=America/New_York:20260718T123000
DTSTAMP:20260420T212131
CREATED:20260216T092559Z
LAST-MODIFIED:20260216T092559Z
UID:27591-1784372400-1784377800@connecticutvalleyct.sgtstaging.com
SUMMARY:Worship Service
DESCRIPTION:
URL:https://connecticutvalleyct.sgtstaging.com/event/worship-service-22/
LOCATION:354 Foster Rd\, S. Windsor\, CT 06074   (860) 644-6119
ORGANIZER;CN="7q8j110h97fgk07agfcf4cs0ig@group.calendar.google.com":MAILTO:7q8j110h97fgk07agfcf4cs0ig@group_calendar_google_com
END:VEVENT
BEGIN:VEVENT
DTSTART;TZID=America/New_York:20260725T093000
DTEND;TZID=America/New_York:20260725T104500
DTSTAMP:20260420T212131
CREATED:20260216T092559Z
LAST-MODIFIED:20260216T092559Z
UID:27592-1784971800-1784976300@connecticutvalleyct.sgtstaging.com
SUMMARY:Sabbath School
DESCRIPTION:
URL:https://connecticutvalleyct.sgtstaging.com/event/sabbath-school-23/
LOCATION:354 Foster Rd\, S. Windsor\, CT 06074   (860) 644-6119
ORGANIZER;CN="7q8j110h97fgk07agfcf4cs0ig@group.calendar.google.com":MAILTO:7q8j110h97fgk07agfcf4cs0ig@group_calendar_google_com
END:VEVENT
BEGIN:VEVENT
DTSTART;TZID=America/New_York:20260725T110000
DTEND;TZID=America/New_York:20260725T123000
DTSTAMP:20260420T212131
CREATED:20260216T092559Z
LAST-MODIFIED:20260216T092559Z
UID:27593-1784977200-1784982600@connecticutvalleyct.sgtstaging.com
SUMMARY:Worship Service
DESCRIPTION:
URL:https://connecticutvalleyct.sgtstaging.com/event/worship-service-23/
LOCATION:354 Foster Rd\, S. Windsor\, CT 06074   (860) 644-6119
ORGANIZER;CN="7q8j110h97fgk07agfcf4cs0ig@group.calendar.google.com":MAILTO:7q8j110h97fgk07agfcf4cs0ig@group_calendar_google_com
END:VEVENT
BEGIN:VEVENT
DTSTART;TZID=America/New_York:20260801T093000
DTEND;TZID=America/New_York:20260801T104500
DTSTAMP:20260420T212131
CREATED:20260216T092600Z
LAST-MODIFIED:20260216T092600Z
UID:27594-1785576600-1785581100@connecticutvalleyct.sgtstaging.com
SUMMARY:Sabbath School
DESCRIPTION:
URL:https://connecticutvalleyct.sgtstaging.com/event/sabbath-school-24/
LOCATION:354 Foster Rd\, S. Windsor\, CT 06074   (860) 644-6119
ORGANIZER;CN="7q8j110h97fgk07agfcf4cs0ig@group.calendar.google.com":MAILTO:7q8j110h97fgk07agfcf4cs0ig@group_calendar_google_com
END:VEVENT
BEGIN:VEVENT
DTSTART;TZID=America/New_York:20260801T110000
DTEND;TZID=America/New_York:20260801T123000
DTSTAMP:20260420T212131
CREATED:20260216T092600Z
LAST-MODIFIED:20260216T092600Z
UID:27595-1785582000-1785587400@connecticutvalleyct.sgtstaging.com
SUMMARY:Worship Service
DESCRIPTION:
URL:https://connecticutvalleyct.sgtstaging.com/event/worship-service-24/
LOCATION:354 Foster Rd\, S. Windsor\, CT 06074   (860) 644-6119
ORGANIZER;CN="7q8j110h97fgk07agfcf4cs0ig@group.calendar.google.com":MAILTO:7q8j110h97fgk07agfcf4cs0ig@group_calendar_google_com
END:VEVENT
BEGIN:VEVENT
DTSTART;TZID=America/New_York:20260808T093000
DTEND;TZID=America/New_York:20260808T104500
DTSTAMP:20260420T212131
CREATED:20260216T092600Z
LAST-MODIFIED:20260216T092600Z
UID:27596-1786181400-1786185900@connecticutvalleyct.sgtstaging.com
SUMMARY:Sabbath School
DESCRIPTION:
URL:https://connecticutvalleyct.sgtstaging.com/event/sabbath-school-25/
LOCATION:354 Foster Rd\, S. Windsor\, CT 06074   (860) 644-6119
ORGANIZER;CN="7q8j110h97fgk07agfcf4cs0ig@group.calendar.google.com":MAILTO:7q8j110h97fgk07agfcf4cs0ig@group_calendar_google_com
END:VEVENT
BEGIN:VEVENT
DTSTART;TZID=America/New_York:20260808T110000
DTEND;TZID=America/New_York:20260808T123000
DTSTAMP:20260420T212131
CREATED:20260216T092600Z
LAST-MODIFIED:20260216T092600Z
UID:27597-1786186800-1786192200@connecticutvalleyct.sgtstaging.com
SUMMARY:Worship Service
DESCRIPTION:
URL:https://connecticutvalleyct.sgtstaging.com/event/worship-service-25/
LOCATION:354 Foster Rd\, S. Windsor\, CT 06074   (860) 644-6119
ORGANIZER;CN="7q8j110h97fgk07agfcf4cs0ig@group.calendar.google.com":MAILTO:7q8j110h97fgk07agfcf4cs0ig@group_calendar_google_com
END:VEVENT
BEGIN:VEVENT
DTSTART;TZID=America/New_York:20260810T190000
DTEND;TZID=America/New_York:20260810T210000
DTSTAMP:20260420T212131
CREATED:20260216T092600Z
LAST-MODIFIED:20260216T092600Z
UID:27598-1786388400-1786395600@connecticutvalleyct.sgtstaging.com
SUMMARY:Church Board Meeting
DESCRIPTION:GD-contact. (9/15/14)
URL:https://connecticutvalleyct.sgtstaging.com/event/church-board-meeting-6/
LOCATION:Fellowship Hall
ORGANIZER;CN="7q8j110h97fgk07agfcf4cs0ig@group.calendar.google.com":MAILTO:7q8j110h97fgk07agfcf4cs0ig@group_calendar_google_com
END:VEVENT
BEGIN:VEVENT
DTSTART;TZID=America/New_York:20260815T093000
DTEND;TZID=America/New_York:20260815T104500
DTSTAMP:20260420T212131
CREATED:20260216T092600Z
LAST-MODIFIED:20260216T092600Z
UID:27599-1786786200-1786790700@connecticutvalleyct.sgtstaging.com
SUMMARY:Sabbath School
DESCRIPTION:
URL:https://connecticutvalleyct.sgtstaging.com/event/sabbath-school-26/
LOCATION:354 Foster Rd\, S. Windsor\, CT 06074   (860) 644-6119
ORGANIZER;CN="7q8j110h97fgk07agfcf4cs0ig@group.calendar.google.com":MAILTO:7q8j110h97fgk07agfcf4cs0ig@group_calendar_google_com
END:VEVENT
BEGIN:VEVENT
DTSTART;TZID=America/New_York:20260815T110000
DTEND;TZID=America/New_York:20260815T123000
DTSTAMP:20260420T212131
CREATED:20260216T092600Z
LAST-MODIFIED:20260216T092600Z
UID:27600-1786791600-1786797000@connecticutvalleyct.sgtstaging.com
SUMMARY:Worship Service
DESCRIPTION:
URL:https://connecticutvalleyct.sgtstaging.com/event/worship-service-26/
LOCATION:354 Foster Rd\, S. Windsor\, CT 06074   (860) 644-6119
ORGANIZER;CN="7q8j110h97fgk07agfcf4cs0ig@group.calendar.google.com":MAILTO:7q8j110h97fgk07agfcf4cs0ig@group_calendar_google_com
END:VEVENT
BEGIN:VEVENT
DTSTART;TZID=America/New_York:20260822T093000
DTEND;TZID=America/New_York:20260822T104500
DTSTAMP:20260420T212131
CREATED:20260216T092600Z
LAST-MODIFIED:20260216T092600Z
UID:27601-1787391000-1787395500@connecticutvalleyct.sgtstaging.com
SUMMARY:Sabbath School
DESCRIPTION:
URL:https://connecticutvalleyct.sgtstaging.com/event/sabbath-school-27/
LOCATION:354 Foster Rd\, S. Windsor\, CT 06074   (860) 644-6119
ORGANIZER;CN="7q8j110h97fgk07agfcf4cs0ig@group.calendar.google.com":MAILTO:7q8j110h97fgk07agfcf4cs0ig@group_calendar_google_com
END:VEVENT
BEGIN:VEVENT
DTSTART;TZID=America/New_York:20260822T110000
DTEND;TZID=America/New_York:20260822T123000
DTSTAMP:20260420T212131
CREATED:20260216T092600Z
LAST-MODIFIED:20260216T092600Z
UID:27602-1787396400-1787401800@connecticutvalleyct.sgtstaging.com
SUMMARY:Worship Service
DESCRIPTION:
URL:https://connecticutvalleyct.sgtstaging.com/event/worship-service-27/
LOCATION:354 Foster Rd\, S. Windsor\, CT 06074   (860) 644-6119
ORGANIZER;CN="7q8j110h97fgk07agfcf4cs0ig@group.calendar.google.com":MAILTO:7q8j110h97fgk07agfcf4cs0ig@group_calendar_google_com
END:VEVENT
BEGIN:VEVENT
DTSTART;TZID=America/New_York:20260829T093000
DTEND;TZID=America/New_York:20260829T104500
DTSTAMP:20260420T212131
CREATED:20260216T092600Z
LAST-MODIFIED:20260216T092600Z
UID:27603-1787995800-1788000300@connecticutvalleyct.sgtstaging.com
SUMMARY:Sabbath School
DESCRIPTION:
URL:https://connecticutvalleyct.sgtstaging.com/event/sabbath-school-28/
LOCATION:354 Foster Rd\, S. Windsor\, CT 06074   (860) 644-6119
ORGANIZER;CN="7q8j110h97fgk07agfcf4cs0ig@group.calendar.google.com":MAILTO:7q8j110h97fgk07agfcf4cs0ig@group_calendar_google_com
END:VEVENT
BEGIN:VEVENT
DTSTART;TZID=America/New_York:20260829T110000
DTEND;TZID=America/New_York:20260829T123000
DTSTAMP:20260420T212131
CREATED:20260216T092600Z
LAST-MODIFIED:20260216T092600Z
UID:27604-1788001200-1788006600@connecticutvalleyct.sgtstaging.com
SUMMARY:Worship Service
DESCRIPTION:
URL:https://connecticutvalleyct.sgtstaging.com/event/worship-service-28/
LOCATION:354 Foster Rd\, S. Windsor\, CT 06074   (860) 644-6119
ORGANIZER;CN="7q8j110h97fgk07agfcf4cs0ig@group.calendar.google.com":MAILTO:7q8j110h97fgk07agfcf4cs0ig@group_calendar_google_com
END:VEVENT
BEGIN:VEVENT
DTSTART;TZID=America/New_York:20260905T093000
DTEND;TZID=America/New_York:20260905T104500
DTSTAMP:20260420T212131
CREATED:20260216T092601Z
LAST-MODIFIED:20260216T092601Z
UID:27605-1788600600-1788605100@connecticutvalleyct.sgtstaging.com
SUMMARY:Sabbath School
DESCRIPTION:
URL:https://connecticutvalleyct.sgtstaging.com/event/sabbath-school-29/
LOCATION:354 Foster Rd\, S. Windsor\, CT 06074   (860) 644-6119
ORGANIZER;CN="7q8j110h97fgk07agfcf4cs0ig@group.calendar.google.com":MAILTO:7q8j110h97fgk07agfcf4cs0ig@group_calendar_google_com
END:VEVENT
BEGIN:VEVENT
DTSTART;TZID=America/New_York:20260905T110000
DTEND;TZID=America/New_York:20260905T123000
DTSTAMP:20260420T212131
CREATED:20260216T092601Z
LAST-MODIFIED:20260216T092601Z
UID:27606-1788606000-1788611400@connecticutvalleyct.sgtstaging.com
SUMMARY:Worship Service
DESCRIPTION:
URL:https://connecticutvalleyct.sgtstaging.com/event/worship-service-29/
LOCATION:354 Foster Rd\, S. Windsor\, CT 06074   (860) 644-6119
ORGANIZER;CN="7q8j110h97fgk07agfcf4cs0ig@group.calendar.google.com":MAILTO:7q8j110h97fgk07agfcf4cs0ig@group_calendar_google_com
END:VEVENT
BEGIN:VEVENT
DTSTART;TZID=America/New_York:20260912T093000
DTEND;TZID=America/New_York:20260912T104500
DTSTAMP:20260420T212131
CREATED:20260216T092601Z
LAST-MODIFIED:20260216T092601Z
UID:27607-1789205400-1789209900@connecticutvalleyct.sgtstaging.com
SUMMARY:Sabbath School
DESCRIPTION:
URL:https://connecticutvalleyct.sgtstaging.com/event/sabbath-school-30/
LOCATION:354 Foster Rd\, S. Windsor\, CT 06074   (860) 644-6119
ORGANIZER;CN="7q8j110h97fgk07agfcf4cs0ig@group.calendar.google.com":MAILTO:7q8j110h97fgk07agfcf4cs0ig@group_calendar_google_com
END:VEVENT
END:VCALENDAR