
BEGIN:VCALENDAR
VERSION:2.0
PRODID:-//CVAC - ECPv6.15.16//NONSGML v1.0//EN
CALSCALE:GREGORIAN
METHOD:PUBLISH
X-WR-CALNAME:CVAC
X-ORIGINAL-URL:https://connecticutvalleyct.sgtstaging.com
X-WR-CALDESC:Events for CVAC
REFRESH-INTERVAL;VALUE=DURATION:PT1H
X-Robots-Tag:noindex
X-PUBLISHED-TTL:PT1H
BEGIN:VTIMEZONE
TZID:America/New_York
BEGIN:DAYLIGHT
TZOFFSETFROM:-0500
TZOFFSETTO:-0400
TZNAME:EDT
DTSTART:20250309T070000
END:DAYLIGHT
BEGIN:STANDARD
TZOFFSETFROM:-0400
TZOFFSETTO:-0500
TZNAME:EST
DTSTART:20251102T060000
END:STANDARD
BEGIN:DAYLIGHT
TZOFFSETFROM:-0500
TZOFFSETTO:-0400
TZNAME:EDT
DTSTART:20260308T070000
END:DAYLIGHT
BEGIN:STANDARD
TZOFFSETFROM:-0400
TZOFFSETTO:-0500
TZNAME:EST
DTSTART:20261101T060000
END:STANDARD
BEGIN:DAYLIGHT
TZOFFSETFROM:-0500
TZOFFSETTO:-0400
TZNAME:EDT
DTSTART:20270314T070000
END:DAYLIGHT
BEGIN:STANDARD
TZOFFSETFROM:-0400
TZOFFSETTO:-0500
TZNAME:EST
DTSTART:20271107T060000
END:STANDARD
BEGIN:DAYLIGHT
TZOFFSETFROM:-0500
TZOFFSETTO:-0400
TZNAME:EDT
DTSTART:20280312T070000
END:DAYLIGHT
BEGIN:STANDARD
TZOFFSETFROM:-0400
TZOFFSETTO:-0500
TZNAME:EST
DTSTART:20281105T060000
END:STANDARD
END:VTIMEZONE
BEGIN:VEVENT
DTSTART;TZID=America/New_York:20261017T110000
DTEND;TZID=America/New_York:20261017T123000
DTSTAMP:20260421T153452
CREATED:20260216T092602Z
LAST-MODIFIED:20260216T092602Z
UID:27620-1792234800-1792240200@connecticutvalleyct.sgtstaging.com
SUMMARY:Worship Service
DESCRIPTION:
URL:https://connecticutvalleyct.sgtstaging.com/event/worship-service-35/
LOCATION:354 Foster Rd\, S. Windsor\, CT 06074   (860) 644-6119
ORGANIZER;CN="7q8j110h97fgk07agfcf4cs0ig@group.calendar.google.com":MAILTO:7q8j110h97fgk07agfcf4cs0ig@group_calendar_google_com
END:VEVENT
BEGIN:VEVENT
DTSTART;TZID=America/New_York:20261024T093000
DTEND;TZID=America/New_York:20261024T104500
DTSTAMP:20260421T153452
CREATED:20260216T092602Z
LAST-MODIFIED:20260216T092602Z
UID:27621-1792834200-1792838700@connecticutvalleyct.sgtstaging.com
SUMMARY:Sabbath School
DESCRIPTION:
URL:https://connecticutvalleyct.sgtstaging.com/event/sabbath-school-36/
LOCATION:354 Foster Rd\, S. Windsor\, CT 06074   (860) 644-6119
ORGANIZER;CN="7q8j110h97fgk07agfcf4cs0ig@group.calendar.google.com":MAILTO:7q8j110h97fgk07agfcf4cs0ig@group_calendar_google_com
END:VEVENT
BEGIN:VEVENT
DTSTART;TZID=America/New_York:20261024T110000
DTEND;TZID=America/New_York:20261024T123000
DTSTAMP:20260421T153452
CREATED:20260216T092602Z
LAST-MODIFIED:20260216T092602Z
UID:27622-1792839600-1792845000@connecticutvalleyct.sgtstaging.com
SUMMARY:Worship Service
DESCRIPTION:
URL:https://connecticutvalleyct.sgtstaging.com/event/worship-service-36/
LOCATION:354 Foster Rd\, S. Windsor\, CT 06074   (860) 644-6119
ORGANIZER;CN="7q8j110h97fgk07agfcf4cs0ig@group.calendar.google.com":MAILTO:7q8j110h97fgk07agfcf4cs0ig@group_calendar_google_com
END:VEVENT
BEGIN:VEVENT
DTSTART;TZID=America/New_York:20261031T093000
DTEND;TZID=America/New_York:20261031T104500
DTSTAMP:20260421T153452
CREATED:20260216T092602Z
LAST-MODIFIED:20260216T092602Z
UID:27623-1793439000-1793443500@connecticutvalleyct.sgtstaging.com
SUMMARY:Sabbath School
DESCRIPTION:
URL:https://connecticutvalleyct.sgtstaging.com/event/sabbath-school-37/
LOCATION:354 Foster Rd\, S. Windsor\, CT 06074   (860) 644-6119
ORGANIZER;CN="7q8j110h97fgk07agfcf4cs0ig@group.calendar.google.com":MAILTO:7q8j110h97fgk07agfcf4cs0ig@group_calendar_google_com
END:VEVENT
BEGIN:VEVENT
DTSTART;TZID=America/New_York:20261031T110000
DTEND;TZID=America/New_York:20261031T123000
DTSTAMP:20260421T153452
CREATED:20260216T092603Z
LAST-MODIFIED:20260216T092603Z
UID:27624-1793444400-1793449800@connecticutvalleyct.sgtstaging.com
SUMMARY:Worship Service
DESCRIPTION:
URL:https://connecticutvalleyct.sgtstaging.com/event/worship-service-37/
LOCATION:354 Foster Rd\, S. Windsor\, CT 06074   (860) 644-6119
ORGANIZER;CN="7q8j110h97fgk07agfcf4cs0ig@group.calendar.google.com":MAILTO:7q8j110h97fgk07agfcf4cs0ig@group_calendar_google_com
END:VEVENT
BEGIN:VEVENT
DTSTART;TZID=America/New_York:20261107T093000
DTEND;TZID=America/New_York:20261107T104500
DTSTAMP:20260421T153452
CREATED:20260216T092603Z
LAST-MODIFIED:20260216T092603Z
UID:27625-1794043800-1794048300@connecticutvalleyct.sgtstaging.com
SUMMARY:Sabbath School
DESCRIPTION:
URL:https://connecticutvalleyct.sgtstaging.com/event/sabbath-school-38/
LOCATION:354 Foster Rd\, S. Windsor\, CT 06074   (860) 644-6119
ORGANIZER;CN="7q8j110h97fgk07agfcf4cs0ig@group.calendar.google.com":MAILTO:7q8j110h97fgk07agfcf4cs0ig@group_calendar_google_com
END:VEVENT
BEGIN:VEVENT
DTSTART;TZID=America/New_York:20261107T110000
DTEND;TZID=America/New_York:20261107T123000
DTSTAMP:20260421T153452
CREATED:20260216T092603Z
LAST-MODIFIED:20260216T092603Z
UID:27626-1794049200-1794054600@connecticutvalleyct.sgtstaging.com
SUMMARY:Worship Service
DESCRIPTION:
URL:https://connecticutvalleyct.sgtstaging.com/event/worship-service-38/
LOCATION:354 Foster Rd\, S. Windsor\, CT 06074   (860) 644-6119
ORGANIZER;CN="7q8j110h97fgk07agfcf4cs0ig@group.calendar.google.com":MAILTO:7q8j110h97fgk07agfcf4cs0ig@group_calendar_google_com
END:VEVENT
BEGIN:VEVENT
DTSTART;TZID=America/New_York:20261109T190000
DTEND;TZID=America/New_York:20261109T210000
DTSTAMP:20260421T153452
CREATED:20260216T092603Z
LAST-MODIFIED:20260216T092603Z
UID:27627-1794250800-1794258000@connecticutvalleyct.sgtstaging.com
SUMMARY:Church Board Meeting
DESCRIPTION:GD-contact. (9/15/14)
URL:https://connecticutvalleyct.sgtstaging.com/event/church-board-meeting-9/
LOCATION:Fellowship Hall
ORGANIZER;CN="7q8j110h97fgk07agfcf4cs0ig@group.calendar.google.com":MAILTO:7q8j110h97fgk07agfcf4cs0ig@group_calendar_google_com
END:VEVENT
BEGIN:VEVENT
DTSTART;TZID=America/New_York:20261114T093000
DTEND;TZID=America/New_York:20261114T104500
DTSTAMP:20260421T153452
CREATED:20260216T092603Z
LAST-MODIFIED:20260216T092603Z
UID:27628-1794648600-1794653100@connecticutvalleyct.sgtstaging.com
SUMMARY:Sabbath School
DESCRIPTION:
URL:https://connecticutvalleyct.sgtstaging.com/event/sabbath-school-39/
LOCATION:354 Foster Rd\, S. Windsor\, CT 06074   (860) 644-6119
ORGANIZER;CN="7q8j110h97fgk07agfcf4cs0ig@group.calendar.google.com":MAILTO:7q8j110h97fgk07agfcf4cs0ig@group_calendar_google_com
END:VEVENT
BEGIN:VEVENT
DTSTART;TZID=America/New_York:20261114T110000
DTEND;TZID=America/New_York:20261114T123000
DTSTAMP:20260421T153452
CREATED:20260216T092603Z
LAST-MODIFIED:20260216T092603Z
UID:27629-1794654000-1794659400@connecticutvalleyct.sgtstaging.com
SUMMARY:Worship Service
DESCRIPTION:
URL:https://connecticutvalleyct.sgtstaging.com/event/worship-service-39/
LOCATION:354 Foster Rd\, S. Windsor\, CT 06074   (860) 644-6119
ORGANIZER;CN="7q8j110h97fgk07agfcf4cs0ig@group.calendar.google.com":MAILTO:7q8j110h97fgk07agfcf4cs0ig@group_calendar_google_com
END:VEVENT
BEGIN:VEVENT
DTSTART;TZID=America/New_York:20261121T093000
DTEND;TZID=America/New_York:20261121T104500
DTSTAMP:20260421T153452
CREATED:20260216T092603Z
LAST-MODIFIED:20260216T092603Z
UID:27630-1795253400-1795257900@connecticutvalleyct.sgtstaging.com
SUMMARY:Sabbath School
DESCRIPTION:
URL:https://connecticutvalleyct.sgtstaging.com/event/sabbath-school-40/
LOCATION:354 Foster Rd\, S. Windsor\, CT 06074   (860) 644-6119
ORGANIZER;CN="7q8j110h97fgk07agfcf4cs0ig@group.calendar.google.com":MAILTO:7q8j110h97fgk07agfcf4cs0ig@group_calendar_google_com
END:VEVENT
BEGIN:VEVENT
DTSTART;TZID=America/New_York:20261121T110000
DTEND;TZID=America/New_York:20261121T123000
DTSTAMP:20260421T153452
CREATED:20260216T092603Z
LAST-MODIFIED:20260216T092603Z
UID:27631-1795258800-1795264200@connecticutvalleyct.sgtstaging.com
SUMMARY:Worship Service
DESCRIPTION:
URL:https://connecticutvalleyct.sgtstaging.com/event/worship-service-40/
LOCATION:354 Foster Rd\, S. Windsor\, CT 06074   (860) 644-6119
ORGANIZER;CN="7q8j110h97fgk07agfcf4cs0ig@group.calendar.google.com":MAILTO:7q8j110h97fgk07agfcf4cs0ig@group_calendar_google_com
END:VEVENT
BEGIN:VEVENT
DTSTART;TZID=America/New_York:20261128T093000
DTEND;TZID=America/New_York:20261128T104500
DTSTAMP:20260421T153452
CREATED:20260216T092603Z
LAST-MODIFIED:20260216T092603Z
UID:27632-1795858200-1795862700@connecticutvalleyct.sgtstaging.com
SUMMARY:Sabbath School
DESCRIPTION:
URL:https://connecticutvalleyct.sgtstaging.com/event/sabbath-school-41/
LOCATION:354 Foster Rd\, S. Windsor\, CT 06074   (860) 644-6119
ORGANIZER;CN="7q8j110h97fgk07agfcf4cs0ig@group.calendar.google.com":MAILTO:7q8j110h97fgk07agfcf4cs0ig@group_calendar_google_com
END:VEVENT
BEGIN:VEVENT
DTSTART;TZID=America/New_York:20261128T110000
DTEND;TZID=America/New_York:20261128T123000
DTSTAMP:20260421T153452
CREATED:20260216T092604Z
LAST-MODIFIED:20260216T092604Z
UID:27633-1795863600-1795869000@connecticutvalleyct.sgtstaging.com
SUMMARY:Worship Service
DESCRIPTION:
URL:https://connecticutvalleyct.sgtstaging.com/event/worship-service-41/
LOCATION:354 Foster Rd\, S. Windsor\, CT 06074   (860) 644-6119
ORGANIZER;CN="7q8j110h97fgk07agfcf4cs0ig@group.calendar.google.com":MAILTO:7q8j110h97fgk07agfcf4cs0ig@group_calendar_google_com
END:VEVENT
BEGIN:VEVENT
DTSTART;TZID=America/New_York:20261205T093000
DTEND;TZID=America/New_York:20261205T104500
DTSTAMP:20260421T153452
CREATED:20260216T092604Z
LAST-MODIFIED:20260216T092604Z
UID:27634-1796463000-1796467500@connecticutvalleyct.sgtstaging.com
SUMMARY:Sabbath School
DESCRIPTION:
URL:https://connecticutvalleyct.sgtstaging.com/event/sabbath-school-42/
LOCATION:354 Foster Rd\, S. Windsor\, CT 06074   (860) 644-6119
ORGANIZER;CN="7q8j110h97fgk07agfcf4cs0ig@group.calendar.google.com":MAILTO:7q8j110h97fgk07agfcf4cs0ig@group_calendar_google_com
END:VEVENT
BEGIN:VEVENT
DTSTART;TZID=America/New_York:20261205T110000
DTEND;TZID=America/New_York:20261205T123000
DTSTAMP:20260421T153452
CREATED:20260216T092604Z
LAST-MODIFIED:20260216T092604Z
UID:27635-1796468400-1796473800@connecticutvalleyct.sgtstaging.com
SUMMARY:Worship Service
DESCRIPTION:
URL:https://connecticutvalleyct.sgtstaging.com/event/worship-service-42/
LOCATION:354 Foster Rd\, S. Windsor\, CT 06074   (860) 644-6119
ORGANIZER;CN="7q8j110h97fgk07agfcf4cs0ig@group.calendar.google.com":MAILTO:7q8j110h97fgk07agfcf4cs0ig@group_calendar_google_com
END:VEVENT
BEGIN:VEVENT
DTSTART;TZID=America/New_York:20261212T093000
DTEND;TZID=America/New_York:20261212T104500
DTSTAMP:20260421T153452
CREATED:20260216T092604Z
LAST-MODIFIED:20260216T092604Z
UID:27636-1797067800-1797072300@connecticutvalleyct.sgtstaging.com
SUMMARY:Sabbath School
DESCRIPTION:
URL:https://connecticutvalleyct.sgtstaging.com/event/sabbath-school-43/
LOCATION:354 Foster Rd\, S. Windsor\, CT 06074   (860) 644-6119
ORGANIZER;CN="7q8j110h97fgk07agfcf4cs0ig@group.calendar.google.com":MAILTO:7q8j110h97fgk07agfcf4cs0ig@group_calendar_google_com
END:VEVENT
BEGIN:VEVENT
DTSTART;TZID=America/New_York:20261212T110000
DTEND;TZID=America/New_York:20261212T123000
DTSTAMP:20260421T153452
CREATED:20260216T092604Z
LAST-MODIFIED:20260216T092604Z
UID:27637-1797073200-1797078600@connecticutvalleyct.sgtstaging.com
SUMMARY:Worship Service
DESCRIPTION:
URL:https://connecticutvalleyct.sgtstaging.com/event/worship-service-43/
LOCATION:354 Foster Rd\, S. Windsor\, CT 06074   (860) 644-6119
ORGANIZER;CN="7q8j110h97fgk07agfcf4cs0ig@group.calendar.google.com":MAILTO:7q8j110h97fgk07agfcf4cs0ig@group_calendar_google_com
END:VEVENT
BEGIN:VEVENT
DTSTART;TZID=America/New_York:20261214T190000
DTEND;TZID=America/New_York:20261214T210000
DTSTAMP:20260421T153452
CREATED:20260216T092604Z
LAST-MODIFIED:20260216T092604Z
UID:27638-1797274800-1797282000@connecticutvalleyct.sgtstaging.com
SUMMARY:Church Board Meeting
DESCRIPTION:GD-contact. (9/15/14)
URL:https://connecticutvalleyct.sgtstaging.com/event/church-board-meeting-10/
LOCATION:Fellowship Hall
ORGANIZER;CN="7q8j110h97fgk07agfcf4cs0ig@group.calendar.google.com":MAILTO:7q8j110h97fgk07agfcf4cs0ig@group_calendar_google_com
END:VEVENT
BEGIN:VEVENT
DTSTART;TZID=America/New_York:20261219T093000
DTEND;TZID=America/New_York:20261219T104500
DTSTAMP:20260421T153452
CREATED:20260216T092604Z
LAST-MODIFIED:20260216T092604Z
UID:27639-1797672600-1797677100@connecticutvalleyct.sgtstaging.com
SUMMARY:Sabbath School
DESCRIPTION:
URL:https://connecticutvalleyct.sgtstaging.com/event/sabbath-school-44/
LOCATION:354 Foster Rd\, S. Windsor\, CT 06074   (860) 644-6119
ORGANIZER;CN="7q8j110h97fgk07agfcf4cs0ig@group.calendar.google.com":MAILTO:7q8j110h97fgk07agfcf4cs0ig@group_calendar_google_com
END:VEVENT
BEGIN:VEVENT
DTSTART;TZID=America/New_York:20261219T110000
DTEND;TZID=America/New_York:20261219T123000
DTSTAMP:20260421T153452
CREATED:20260216T092604Z
LAST-MODIFIED:20260216T092604Z
UID:27640-1797678000-1797683400@connecticutvalleyct.sgtstaging.com
SUMMARY:Worship Service
DESCRIPTION:
URL:https://connecticutvalleyct.sgtstaging.com/event/worship-service-44/
LOCATION:354 Foster Rd\, S. Windsor\, CT 06074   (860) 644-6119
ORGANIZER;CN="7q8j110h97fgk07agfcf4cs0ig@group.calendar.google.com":MAILTO:7q8j110h97fgk07agfcf4cs0ig@group_calendar_google_com
END:VEVENT
BEGIN:VEVENT
DTSTART;TZID=America/New_York:20261226T093000
DTEND;TZID=America/New_York:20261226T104500
DTSTAMP:20260421T153452
CREATED:20260216T092604Z
LAST-MODIFIED:20260216T092604Z
UID:27641-1798277400-1798281900@connecticutvalleyct.sgtstaging.com
SUMMARY:Sabbath School
DESCRIPTION:
URL:https://connecticutvalleyct.sgtstaging.com/event/sabbath-school-45/
LOCATION:354 Foster Rd\, S. Windsor\, CT 06074   (860) 644-6119
ORGANIZER;CN="7q8j110h97fgk07agfcf4cs0ig@group.calendar.google.com":MAILTO:7q8j110h97fgk07agfcf4cs0ig@group_calendar_google_com
END:VEVENT
BEGIN:VEVENT
DTSTART;TZID=America/New_York:20261226T110000
DTEND;TZID=America/New_York:20261226T123000
DTSTAMP:20260421T153452
CREATED:20260216T092605Z
LAST-MODIFIED:20260216T092605Z
UID:27642-1798282800-1798288200@connecticutvalleyct.sgtstaging.com
SUMMARY:Worship Service
DESCRIPTION:
URL:https://connecticutvalleyct.sgtstaging.com/event/worship-service-45/
LOCATION:354 Foster Rd\, S. Windsor\, CT 06074   (860) 644-6119
ORGANIZER;CN="7q8j110h97fgk07agfcf4cs0ig@group.calendar.google.com":MAILTO:7q8j110h97fgk07agfcf4cs0ig@group_calendar_google_com
END:VEVENT
BEGIN:VEVENT
DTSTART;TZID=America/New_York:20270102T093000
DTEND;TZID=America/New_York:20270102T104500
DTSTAMP:20260421T153452
CREATED:20260216T092605Z
LAST-MODIFIED:20260216T092605Z
UID:27643-1798882200-1798886700@connecticutvalleyct.sgtstaging.com
SUMMARY:Sabbath School
DESCRIPTION:
URL:https://connecticutvalleyct.sgtstaging.com/event/sabbath-school-46/
LOCATION:354 Foster Rd\, S. Windsor\, CT 06074   (860) 644-6119
ORGANIZER;CN="7q8j110h97fgk07agfcf4cs0ig@group.calendar.google.com":MAILTO:7q8j110h97fgk07agfcf4cs0ig@group_calendar_google_com
END:VEVENT
BEGIN:VEVENT
DTSTART;TZID=America/New_York:20270102T110000
DTEND;TZID=America/New_York:20270102T123000
DTSTAMP:20260421T153452
CREATED:20260216T092605Z
LAST-MODIFIED:20260216T092605Z
UID:27644-1798887600-1798893000@connecticutvalleyct.sgtstaging.com
SUMMARY:Worship Service
DESCRIPTION:
URL:https://connecticutvalleyct.sgtstaging.com/event/worship-service-46/
LOCATION:354 Foster Rd\, S. Windsor\, CT 06074   (860) 644-6119
ORGANIZER;CN="7q8j110h97fgk07agfcf4cs0ig@group.calendar.google.com":MAILTO:7q8j110h97fgk07agfcf4cs0ig@group_calendar_google_com
END:VEVENT
BEGIN:VEVENT
DTSTART;TZID=America/New_York:20270109T093000
DTEND;TZID=America/New_York:20270109T104500
DTSTAMP:20260421T153452
CREATED:20260216T092605Z
LAST-MODIFIED:20260216T092605Z
UID:27645-1799487000-1799491500@connecticutvalleyct.sgtstaging.com
SUMMARY:Sabbath School
DESCRIPTION:
URL:https://connecticutvalleyct.sgtstaging.com/event/sabbath-school-47/
LOCATION:354 Foster Rd\, S. Windsor\, CT 06074   (860) 644-6119
ORGANIZER;CN="7q8j110h97fgk07agfcf4cs0ig@group.calendar.google.com":MAILTO:7q8j110h97fgk07agfcf4cs0ig@group_calendar_google_com
END:VEVENT
BEGIN:VEVENT
DTSTART;TZID=America/New_York:20270109T110000
DTEND;TZID=America/New_York:20270109T123000
DTSTAMP:20260421T153452
CREATED:20260216T092605Z
LAST-MODIFIED:20260216T092605Z
UID:27646-1799492400-1799497800@connecticutvalleyct.sgtstaging.com
SUMMARY:Worship Service
DESCRIPTION:
URL:https://connecticutvalleyct.sgtstaging.com/event/worship-service-47/
LOCATION:354 Foster Rd\, S. Windsor\, CT 06074   (860) 644-6119
ORGANIZER;CN="7q8j110h97fgk07agfcf4cs0ig@group.calendar.google.com":MAILTO:7q8j110h97fgk07agfcf4cs0ig@group_calendar_google_com
END:VEVENT
BEGIN:VEVENT
DTSTART;TZID=America/New_York:20270111T190000
DTEND;TZID=America/New_York:20270111T210000
DTSTAMP:20260421T153452
CREATED:20260216T092605Z
LAST-MODIFIED:20260216T092605Z
UID:27647-1799694000-1799701200@connecticutvalleyct.sgtstaging.com
SUMMARY:Church Board Meeting
DESCRIPTION:GD-contact. (9/15/14)
URL:https://connecticutvalleyct.sgtstaging.com/event/church-board-meeting-11/
LOCATION:Fellowship Hall
ORGANIZER;CN="7q8j110h97fgk07agfcf4cs0ig@group.calendar.google.com":MAILTO:7q8j110h97fgk07agfcf4cs0ig@group_calendar_google_com
END:VEVENT
BEGIN:VEVENT
DTSTART;TZID=America/New_York:20270116T093000
DTEND;TZID=America/New_York:20270116T104500
DTSTAMP:20260421T153452
CREATED:20260216T092605Z
LAST-MODIFIED:20260216T092605Z
UID:27648-1800091800-1800096300@connecticutvalleyct.sgtstaging.com
SUMMARY:Sabbath School
DESCRIPTION:
URL:https://connecticutvalleyct.sgtstaging.com/event/sabbath-school-48/
LOCATION:354 Foster Rd\, S. Windsor\, CT 06074   (860) 644-6119
ORGANIZER;CN="7q8j110h97fgk07agfcf4cs0ig@group.calendar.google.com":MAILTO:7q8j110h97fgk07agfcf4cs0ig@group_calendar_google_com
END:VEVENT
BEGIN:VEVENT
DTSTART;TZID=America/New_York:20270116T110000
DTEND;TZID=America/New_York:20270116T123000
DTSTAMP:20260421T153452
CREATED:20260216T092605Z
LAST-MODIFIED:20260216T092605Z
UID:27649-1800097200-1800102600@connecticutvalleyct.sgtstaging.com
SUMMARY:Worship Service
DESCRIPTION:
URL:https://connecticutvalleyct.sgtstaging.com/event/worship-service-48/
LOCATION:354 Foster Rd\, S. Windsor\, CT 06074   (860) 644-6119
ORGANIZER;CN="7q8j110h97fgk07agfcf4cs0ig@group.calendar.google.com":MAILTO:7q8j110h97fgk07agfcf4cs0ig@group_calendar_google_com
END:VEVENT
END:VCALENDAR